BEGIN:VCALENDAR
VERSION:2.0
PRODID:-//wp-events-plugin.com//7.2.3.1//EN
TZID:Europe/Berlin
X-WR-TIMEZONE:Europe/Berlin
BEGIN:VEVENT
UID:395@powerhouse-nord.de
DTSTART;TZID=Europe/Berlin:20260428T140000
DTEND;TZID=Europe/Berlin:20260428T171500
DTSTAMP:20260423T123256Z
URL:https://www.powerhouse-nord.de/events/olec-e-v-transformationsimpulse
SUMMARY:OLEC e.V.: Transformationsimpulse
DESCRIPTION:Anmeldung: Transformationsimpulse - Oldenburger Energiecluster 
 OLEC\n\nDie sichere Verfügbarkeit strategischer Ressourcen entwickelt sic
 h zunehmend zu einem entscheidenden Wettbewerbsfaktor für Unternehmen. St
 eigende Rohstoffpreise\, geopolitische Spannungen und komplexe Lieferkette
 n stellen Betriebe vor neue Herausforderungen – verlangen aber zugleich 
 nach neuen Lösungsansätzen.\n\nMit der Veranstaltung „Transformationsi
 mpulse – Wissenschaft trifft Wirtschaft“ bringen wir Akteurinnen und A
 kteure aus regionaler Wirtschaft\, Wissenschaft und Verwaltung zusammen. Z
 iel ist es\, aktuelle Fragestellungen rund um die Verfügbarkeit von Resso
 urcen praxisnah zu beleuchten und konkrete Handlungsoptionen aufzuzeigen.\
 n\nIm Mittelpunkt stehen dabei nicht abstrakte Nachhaltigkeitsziele\, sond
 ern die unternehmerische Praxis: Wie lassen sich Abhängigkeiten reduziere
 n? Welche Rolle spielen Kreislaufwirtschaft und Ressourceneffizienz? Wie k
 önnen Lieferketten resilienter gestaltet werden? Und welche gesetzlichen 
 Anforderungen müssen Unternehmen künftig berücksichtigen?\n\nNeben fach
 lichen Impulsen bietet die Veranstaltung Raum für Austausch\, Diskussion 
 und Vernetzung – mit Expertinnen und Experten sowie Unternehmensvertrete
 rinnen und -vertretern aus unterschiedlichen Branchen.\nProgrammübersicht
 \n14 Uhr – Begrüßung\nBegrüßung durch die Wirtschaftsförderung Olde
 nburg\n\n14.05 Uhr – Praxisimpuls: Herausforderungen und Dringlichkeit d
 er Ressourcenverfügbarkeit\nUnternehmensperspektive aus der Praxis\n\n14.
 20 Uhr – Übergreifender Fachvortrag\nEinordnung strategischer und kriti
 scher Ressourcen\, globale Entwicklungen und Herausforderungen\n\n14.40 Uh
 r – Blitzlichtrunde / Elevator Pitches\nKurze Impulse zu den Vertiefungs
 themen der Parallelsessions\n\n15 Uhr – Kaffeepause\n\n15.30 Uhr – 1. 
 Parallelsession (45 Minuten)\n\n 	Kreislaufwirtschaft\n 	Ressourceneffizie
 nz\n\n16.15 Uhr – 2. Parallelsession (45 Minuten)\n\n 	Lieferkettenresil
 ienz\n 	Aktuelle gesetzliche Anforderungen an Unternehmen\n\n17 Uhr – Zu
 sammenfassung und Ausblick\n\n17.15 Uhr – Ende der Veranstaltung
END:VEVENT
BEGIN:VTIMEZONE
TZID:Europe/Berlin
X-LIC-LOCATION:Europe/Berlin
BEGIN:DAYLIGHT
DTSTART:20260329T030000
TZOFFSETFROM:+0100
TZOFFSETTO:+0200
TZNAME:CEST
END:DAYLIGHT
END:VTIMEZONE
END:VCALENDAR