BEGIN:VCALENDAR
VERSION:2.0
PRODID:-//wp-events-plugin.com//7.2.3.1//EN
TZID:Europe/Berlin
X-WR-TIMEZONE:Europe/Berlin
BEGIN:VEVENT
UID:96@powerhouse-nord.de
DTSTART;TZID=Europe/Berlin;VALUE=DATE:20250425
DTEND;TZID=Europe/Berlin;VALUE=DATE:20250426
DTSTAMP:20250221T111001Z
URL:https://www.powerhouse-nord.de/events/metropolregion-nordwest-projekt-
 barcamp-energieregion-nordwest-2025
SUMMARY:Metropolregion Nordwest: Projekt Barcamp „Energieregion Nordwest 
 2025“
DESCRIPTION:Am 25. April 2025 findet unser Projekt Barcamp „Energieregion
  Nordwest 2025“ in den Räumen der Jade Hochschule Elsfleth statt. Alle 
 regionalen Akteurinnen und Akteure sind herzlich eingeladen\, sich über a
 ktuelle Entwicklungen in der Energieregion Nordwest auszutauschen und geme
 insam neue Ideen zu entwickeln. Das Barcamp bietet den Teilnehmenden unmit
 telbare Einblicke in die Energiewende im Nordwesten\, die Möglichkeit mit
  Expertinnen und Experten aktuelle Herausforderungen zu diskutieren\, Antw
 orten zu finden und gemeinsam Ideen für die Energietransformation zu schm
 ieden. Auf der offenen Tagung haben die Teilnehmenden die Möglichkeit in 
 sogenannten „Sessions“ das Programm selbst aktiv zu gestalten und Them
 en einzubringen.\n\nWenn Sie bereits jetzt ein Thema anmelden möchten\, m
 elden Sie sich gerne bei friederike.hackmann@metropolregion-nordwest.de\n
 \nWeitere Informationen zur Veranstaltung folgen in Kürze.\n\nWeitere Inf
 ormationen finden Sie unter diesem Link: Projekt Barcamp „Energieregion 
 Nordwest 2025“ | Metropolregion Nordwest
END:VEVENT
BEGIN:VTIMEZONE
TZID:Europe/Berlin
X-LIC-LOCATION:Europe/Berlin
BEGIN:DAYLIGHT
DTSTART:20250330T030000
TZOFFSETFROM:+0100
TZOFFSETTO:+0200
TZNAME:CEST
END:DAYLIGHT
END:VTIMEZONE
END:VCALENDAR