BEGIN:VCALENDAR
VERSION:2.0
PRODID:-//wp-events-plugin.com//7.2.3.1//EN
TZID:Europe/Berlin
X-WR-TIMEZONE:Europe/Berlin
BEGIN:VEVENT
UID:280@powerhouse-nord.de
DTSTART;TZID=Europe/Berlin:20250907T140000
DTEND;TZID=Europe/Berlin:20250907T170000
DTSTAMP:20250530T044322Z
URL:https://www.powerhouse-nord.de/events/gemeinde-apen-zeitreise-durch-au
 gustfehn-5
SUMMARY:Gemeinde Apen: Zeitreise durch Augustfehn
DESCRIPTION:Historischen Bilderausstellung und Gästeführung „Auguste vo
 n Fehn erzählt"  am Sonntag\, den 07. September 2025\nEin Nachmittag vol
 ler Erinnerungen &amp\; Entdeckungen\nAugustfehn I-III. Wenn Bilder sprech
 en könnten\, würden sie Geschichten von Begegnungen\, Wandel und Zusamme
 nhalt erzählen. Am Sonntag\, den 01. Juni 2025 laden wir Euch wieder dazu
  ein\, diese Geschichten der letzten 175 Jahre Augustfehns zu entdecken un
 d zu erleben. Die Bilderausstellung „Leben und Wohnen am Augustfehn-Kana
 l" des Heimat- und Brauchtumsverein Legener Moor e.V. öffnet von 14:00 bi
 s 17:00 Uhr erneut ihre Türen in der Bürgerschule Augustfehn. \nKommt vo
 rbei\, taucht ein in historische Momente\, schwelgt in Erinnerungen und ge
 nießt Kaffee und Kuchen in entspannter Atmosphäre.\nZeitgleich könnt Ih
 r Euch auch mit der gestandenen und humorvolle Moorkolonistin Auguste auf 
 den Weg machen und die markantesten historischen Plätze in Augustfehn beg
 ehen. Bei der Gästeführung „Auguste von Fehn erzählt: Historische Spu
 rensuche durch Augustfehn" könnt ihr vergessene Orte ganz neu entdecken. 
 Mit ihrem einzigartigen Charme lässt Auguste die Vergangenheit dabei mit 
 viel Witz und unterhaltsamen Geschichten wiederaufleben.
END:VEVENT
BEGIN:VTIMEZONE
TZID:Europe/Berlin
X-LIC-LOCATION:Europe/Berlin
BEGIN:DAYLIGHT
DTSTART:20250330T030000
TZOFFSETFROM:+0100
TZOFFSETTO:+0200
TZNAME:CEST
END:DAYLIGHT
END:VTIMEZONE
END:VCALENDAR