BEGIN:VCALENDAR
VERSION:2.0
PRODID:-//wp-events-plugin.com//7.2.3.1//EN
TZID:Europe/Berlin
X-WR-TIMEZONE:Europe/Berlin
BEGIN:VEVENT
UID:376@powerhouse-nord.de
DTSTART;TZID=Europe/Berlin:20251204T173000
DTEND;TZID=Europe/Berlin:20251204T220000
DTSTAMP:20251113T115918Z
URL:https://www.powerhouse-nord.de/events/bis-wirtschaftsfoerderung-bremer
 haven-bremerhaven-talk-neustart-mit-mut
SUMMARY:BIS Wirtschaftsförderung Bremerhaven: Bremerhaven Talk "Neustart m
 it Mut"
DESCRIPTION:Die Handelskammer Bremen – IHK für Bremen und Bremerhaven un
 d die BIS Wirtschaftsförderung Bremerhaven laden Sie herzlich zum nächst
 en „Bremerhaven Talk" ein.\nDieses Mal dreht sich alles um das Thema „
 Neuanfang" – zwei spannende Persönlichkeiten berichten\, wie sie den Sc
 hritt aus einem sicheren Job in die Selbstständigkeit gewagt haben.\n\nBe
 ide waren in einer anderen Branche tätig\, dort bereits etabliert\, und h
 aben dennoch den Mut gefasst\, beruflich noch einmal ganz neu zu beginnen 
 – und zeigen eindrucksvoll\, wie man mit Leidenschaft\, Kreativität und
  Durchhaltevermögen erfolgreich etwas Eigenes aufbauen kann. Was hat sie 
 dazu bewogen\, kamen bei ihnen zwischenzeitlich Zweifel an dieser Entschei
 dung\nauf – und würden sie diesen Schritt wieder wagen und auch Anderen
  empfehlen?\n\nWir freuen uns auf unsere Talkgäste:\nJenifer Dagligil\, L
 ieblingsplatz Bremerhaven und Kevin Stock\, Havenbike Bremerhaven\n\nDurch
  den Abend begleitet Sie unsere Moderatorin Ariane Wirth.\n\nKommen Sie vo
 rbei – es lohnt sich: Bremerhaven Talk – „Neustart mit Mut"\n\nam Mi
 ttwoch\, 4. Dezember 2025\, um 18:00 Uhr\, Einlass ab 17:30 Uhr\n\nOrt: Ca
 fé Findus\, Bürgermeister-Smidt-Straße 218\, 27568 Bremerhaven\n\nNach 
 dem Talk gegen 19:00 Uhr laden wir Sie herzlich zu einem gemeinsamen Essen
  und Austausch in entspannter Atmosphäre ein.\n\nBitte melden Sie sich bi
 s zum 27. November 2025 unter folgendem Link verbindlich an: Bremerhaven T
 alk "Neustart mit Mut"
LOCATION:Café Findus\, Bürgermeister-Smidt-Straße 218\, Bremerhaven\, 27
 568\, Deutschland
X-APPLE-STRUCTURED-LOCATION;VALUE=URI;X-ADDRESS=Bürgermeister-Smidt-Straß
 e 218\, Bremerhaven\, 27568\, Deutschland;X-APPLE-RADIUS=100;X-TITLE=Café
  Findus:geo:0,0
END:VEVENT
BEGIN:VTIMEZONE
TZID:Europe/Berlin
X-LIC-LOCATION:Europe/Berlin
BEGIN:STANDARD
DTSTART:20251026T020000
TZOFFSETFROM:+0200
TZOFFSETTO:+0100
TZNAME:CET
END:STANDARD
END:VTIMEZONE
END:VCALENDAR