BEGIN:VCALENDAR
VERSION:2.0
PRODID:-//wp-events-plugin.com//7.2.3.1//EN
TZID:Europe/Berlin
X-WR-TIMEZONE:Europe/Berlin
BEGIN:VEVENT
UID:93@powerhouse-nord.de
DTSTART;TZID=Europe/Berlin:20250227T090000
DTEND;TZID=Europe/Berlin:20250227T130000
DTSTAMP:20250221T110606Z
URL:https://www.powerhouse-nord.de/events/bis-attraktiv-fuer-fachkraefte-m
 it-diversity-in-kmu
SUMMARY:BIS: Attraktiv für Fachkräfte. Mit Diversity in KMU.
DESCRIPTION:Der Fachkräftemangel ist allseits spürbar. Insbesondere für 
 kleine und mittlere Unternehmen wird es immer schwieriger\, qualifizierte 
 Fachkräfte zu finden und offene Stellen zu besetzen.\n\nVor diesem Hinter
 grund wurde im Land Bremen eine neue Förderung „Diversity in KMU“ ges
 tartet. Die Förderung kann Sie dabei unterstützen\, sich als Arbeitgeber
 :in auf den Weg zu mehr Diversität in Ihrem Unternehmen zu machen. Dies k
 ann erfolgen\, indem Unternehmen ihre Organisation und Abläufe an die Bed
 ürfnisse unterschiedlicher Zielgruppen anpassen und damit für Menschen a
 ttraktiver werden\, die den Weg zu ihnen sonst vermutlich nicht finden wü
 rden. Ganz nebenbei entfesseln sie durch mehr Diversität weiteres Innovat
 ionspotenzial. Die aktuelle wissenschaftliche Diskussion weist darauf hin\
 , dass diverse Teams – also solche\, in denen z.B. Personen unterschiedl
 ichen Alters\, Geschlechts oder unterschiedlicher Herkunft zusammenkommen 
 – kreativer sind und somit die Innovationsfähigkeit von Unternehmen ste
 igern.\n\nDie Innovationswerkstatt gliedert sich in drei Teile. Wir starte
 n mit einem kurzen fachlichen Input zum Konzept Diversity und gehen dann z
 u den positiven Wirkungen einer diversen Personalstruktur auf Ihre Unterne
 hmen über. Im dritten Teil besprechen wir konkrete Maßnahmen und Ideen f
 ür die Umsetzung von Diversity-Konzepten in Ihren Unternehmen.\n\nHinterg
 rundinformationen zum Förderprogramm finden Sie hier:\n\nDiversity in KMU
  bei der BIS\n\nDiversity in KMU bei der BAB\n\nDie Veranstaltung findet i
 m Rahmen der Förderung statt. Sie müssen jedoch nicht Teil des Programms
  sein\, um an der Innovationswerkstatt teilzunehmen.\n\nAm 20.02.2025 find
 et in Bremen ebenfalls eine Innovationswerkstatt zum Thema Diversity in KM
 U statt. \n\nAgenda:\n\n1. Diversity und ihre Dimensionen\n\n2. Potenziale
  einer diversen Personalstruktur für Ihr Unternehmen mit Austauschrunde\n
 \n3. Entwicklung von Maßnahmen und Ideen zum Thema Diversity für Unterne
 hmen\n\n&nbsp\;\n\nVeranstaltungsort: \n\ntimeport 2\nBarkhausenstr. 2\,
  27568 Bremerhaven\nDeutschland\n\n&nbsp\;\n\nWeitere Informationen finde
 n Sie unter diesem Link: Attraktiv für Fachkräfte. Mit Diversity in KMU
END:VEVENT
BEGIN:VTIMEZONE
TZID:Europe/Berlin
X-LIC-LOCATION:Europe/Berlin
BEGIN:STANDARD
DTSTART:20241027T020000
TZOFFSETFROM:+0200
TZOFFSETTO:+0100
TZNAME:CET
END:STANDARD
END:VTIMEZONE
END:VCALENDAR